BEGIN:VCALENDAR
VERSION:2.0
PRODID:-//建設kids - ECPv6.15.20//NONSGML v1.0//EN
CALSCALE:GREGORIAN
METHOD:PUBLISH
X-WR-CALNAME:建設kids
X-ORIGINAL-URL:https://kensetsu.kids
X-WR-CALDESC:建設kids のイベント
REFRESH-INTERVAL;VALUE=DURATION:PT1H
X-Robots-Tag:noindex
X-PUBLISHED-TTL:PT1H
BEGIN:VTIMEZONE
TZID:Asia/Tokyo
BEGIN:STANDARD
TZOFFSETFROM:+0900
TZOFFSETTO:+0900
TZNAME:JST
DTSTART:20250101T000000
END:STANDARD
END:VTIMEZONE
BEGIN:VEVENT
DTSTART;TZID=Asia/Tokyo:20260425T000000
DTEND;TZID=Asia/Tokyo:20260425T235959
DTSTAMP:20260425T014113
CREATED:20260331T014244Z
LAST-MODIFIED:20260331T014355Z
UID:4710-1777075200-1777161599@kensetsu.kids
SUMMARY:2026/04/25　大興産業大展示会2026＜静岡県浜松市＞
DESCRIPTION:ご家族でお楽しみいただけます！※お子様向けミニショベルカー市場体験あり \n\n\n\n \n\n\n\n対象特になし日程2026/04/25(土)時間09:00～15:00開催地浜松市総合産業展示館開催地住所静岡県浜松市中央区流通元町20-2主催大興産業株式会社\n\n\n\n\n\n\n\n\n\n※イベントにより募集が終了している場合があります \n\n\n\n※お問い合わせは主催団体へお願いします \n\n\n\n \n\n\n\n\nhttps://www.daiko-sangyo.co.jp/information/?mode=detail&article=69\n\n\n\n\n \n\n\n1Fプリンター_20260326_092516
URL:https://kensetsu.kids/event/2026-04-25%e3%80%80%e5%a4%a7%e8%88%88%e7%94%a3%e6%a5%ad%e5%a4%a7%e5%b1%95%e7%a4%ba%e4%bc%9a2026%ef%bc%9c%e9%9d%99%e5%b2%a1%e7%9c%8c%e6%b5%9c%e6%9d%be%e5%b8%82%ef%bc%9e
CATEGORIES:イベント
ATTACH;FMTTYPE=image/png:https://kensetsu.kids/wp-content/uploads/2024/07/toukaichihou.png
END:VEVENT
END:VCALENDAR