BEGIN:VCALENDAR
VERSION:2.0
PRODID:-//建設kids - ECPv6.15.20//NONSGML v1.0//EN
CALSCALE:GREGORIAN
METHOD:PUBLISH
X-ORIGINAL-URL:https://kensetsu.kids
X-WR-CALDESC:建設kids のイベント
REFRESH-INTERVAL;VALUE=DURATION:PT1H
X-Robots-Tag:noindex
X-PUBLISHED-TTL:PT1H
BEGIN:VTIMEZONE
TZID:Asia/Tokyo
BEGIN:STANDARD
TZOFFSETFROM:+0900
TZOFFSETTO:+0900
TZNAME:JST
DTSTART:20240101T000000
END:STANDARD
END:VTIMEZONE
BEGIN:VEVENT
DTSTART;TZID=Asia/Tokyo:20251004T000000
DTEND;TZID=Asia/Tokyo:20251004T235959
DTSTAMP:20260425T082826
CREATED:20250922T021441Z
LAST-MODIFIED:20250922T021523Z
UID:4380-1759536000-1759622399@kensetsu.kids
SUMMARY:2025/10/04　姫路 日工祭＜兵庫県姫路市＞
DESCRIPTION:学校法人誠和学院の設立30周年を記念して、姫路の中心・大手前公園にて、”ものづくり”をテーマにした体験型イベント「日工祭（にっこうさい）」を開催します。子どもから大人まで楽しめるコンテンツが盛りだくさん！未来の職人・エンジニアたちと一緒に、学び・創造・挑戦の一日を体験しませんか？ \n\n\n\n \n\n\n\n対象コンテンツによる日程2025/10/04(土)時間10:00～15:00開催地大手前公園（姫路城前）開催地住所〒670-0012 兵庫県姫路市本町68番地24-1主催学校法人誠和学院　日本工科大学校\n\n\n\n\n\n\n\n\n\n※イベントにより募集が終了している場合があります \n\n\n\n※お問い合わせは主催団体へお願いします \n\n\n\n \n\n\n\n\nhttps://www.seigaku.ac.jp/news/info/4131/
URL:https://kensetsu.kids/event/2025-10-04%e3%80%80%e5%a7%ab%e8%b7%af-%e6%97%a5%e5%b7%a5%e7%a5%ad%ef%bc%9c%e5%85%b5%e5%ba%ab%e7%9c%8c%e5%a7%ab%e8%b7%af%e5%b8%82%ef%bc%9e
CATEGORIES:イベント
ATTACH;FMTTYPE=image/png:https://kensetsu.kids/wp-content/uploads/2024/07/kansaichihou.png
END:VEVENT
BEGIN:VEVENT
DTSTART;TZID=Asia/Tokyo:20251011T000000
DTEND;TZID=Asia/Tokyo:20251012T235959
DTSTAMP:20260425T082826
CREATED:20251007T055921Z
LAST-MODIFIED:20251007T055922Z
UID:4432-1760140800-1760313599@kensetsu.kids
SUMMARY:2025/10/11～12　第9回 和歌山ではたらく車 大集合！＜和歌山県和歌山市＞
DESCRIPTION:見て触って体感する子どもたちの宝箱イベント！10月11日と12日の2日間和歌山城　砂の丸広場に家族揃って遊びに来てね！ \n\n\n\n \n\n\n\n対象特になし日程2025/10/11(土)・12(日)時間10:00～16:00開催地和歌山城砂の丸広場開催地住所〒640-8146 和歌山県和歌山市一番丁主催和歌山ではたらく車大集合！ 実行委員会\n\n\n\n\n\n\n\n\n\n※イベントにより募集が終了している場合があります \n\n\n\n※お問い合わせは主催団体へお願いします \n\n\n\n \n\n\n\n\nhttps://azumahouse.com/topics/10082
URL:https://kensetsu.kids/event/2025-10-11%ef%bd%9e12%e3%80%80%e7%ac%ac9%e5%9b%9e-%e5%92%8c%e6%ad%8c%e5%b1%b1%e3%81%a7%e3%81%af%e3%81%9f%e3%82%89%e3%81%8f%e8%bb%8a-%e5%a4%a7%e9%9b%86%e5%90%88%ef%bc%81%ef%bc%9c%e5%92%8c%e6%ad%8c
CATEGORIES:イベント
ATTACH;FMTTYPE=image/png:https://kensetsu.kids/wp-content/uploads/2024/07/kansaichihou.png
END:VEVENT
BEGIN:VEVENT
DTSTART;TZID=Asia/Tokyo:20251012T000000
DTEND;TZID=Asia/Tokyo:20251012T235959
DTSTAMP:20260425T082826
CREATED:20250828T061452Z
LAST-MODIFIED:20250828T061454Z
UID:4283-1760227200-1760313599@kensetsu.kids
SUMMARY:2025/10/12　～さわって 作って 動かして 建設業体験イベント2025～＜京都府久世郡＞
DESCRIPTION:【ブース内容】・VRで重機等操作体験・ブロックで街づくり・ダヴィンチ橋の製作体験　等皆様ぜひお越しください！ \n\n\n\n \n\n\n\n対象特になし日程2025/10/12(日)時間10:00～17:00開催地イオンモール久御山開催地住所京都府久世郡久御山町森南大内156-1主催京都府建設業魅力向上プロジェクト推進プラットフォーム・一般社団法人京都府建設業協会・一般社団法人京都府測量設計業協会・京都府建設交通部など\n\n\n\n\n\n\n\n\n\n※イベントにより募集が終了している場合があります \n\n\n\n※お問い合わせは主催団体へお願いします \n\n\n\n \n\n\n\n\nhttps://www.pref.kyoto.jp/shido/miryokukojo/index.html\n\n\n\n\n \n\n\n\n\n京都府建設業協会他さわって 作って 動かして 建設業建設業体験イベント2025を開催①9/13(土)10時～17時　イオンモール京都五条②10/12(日)10時～17時　イオンモール久御山模型によるまちづくり体験やVRを利用した重機の操作体験を通じて、建設業の魅力に触れることができます pic.twitter.com/jG3d8n0uPZ — 全国建設業協会（全建） (@zenken_net) August 26\, 2025
URL:https://kensetsu.kids/event/2025-10-12%e3%80%80%ef%bd%9e%e3%81%95%e3%82%8f%e3%81%a3%e3%81%a6-%e4%bd%9c%e3%81%a3%e3%81%a6-%e5%8b%95%e3%81%8b%e3%81%97%e3%81%a6-%e5%bb%ba%e8%a8%ad%e6%a5%ad%e4%bd%93%e9%a8%93%e3%82%a4%e3%83%99
CATEGORIES:イベント
ATTACH;FMTTYPE=image/png:https://kensetsu.kids/wp-content/uploads/2024/07/kansaichihou.png
END:VEVENT
BEGIN:VEVENT
DTSTART;TZID=Asia/Tokyo:20251025T000000
DTEND;TZID=Asia/Tokyo:20251025T235959
DTSTAMP:20260425T082826
CREATED:20251007T054035Z
LAST-MODIFIED:20251007T054036Z
UID:4428-1761350400-1761436799@kensetsu.kids
SUMMARY:2025/10/25　シルバーフェアwith OSORAmarket はたらくくるま大集合 Vol.2 ＜兵庫県宝塚市＞
DESCRIPTION:去年大盛り上がりだった大人気イベント「はたらくくるま大集合」がパワーアップして帰ってきたー！🥳✨今回はシールラリーに挑戦して全部集めたらプレゼントGETのチャンス🎁💖（※全店舗対象・なくなり次第終了）さらに‼️高所作業車に乗って、空からOSORAを見渡せるスペシャル体験も登場🌈ガチャガチャで当たりを引いて当日券をGET🎫空のおさんぽに出発だ〜！🚀✨ \n\n\n\n \n\n\n\n対象特になし日程2025/10/25(土)時間10:00～17:00開催地末広中央公園開催地住所〒665-0031 兵庫県宝塚市末広町７８−１主催宝塚市共同受注 ログッドジョブ・宝塚市シルバー人材センター\n\n\n\n\n\n\n\n\n\n※イベントにより募集が終了している場合があります \n\n\n\n※お問い合わせは主催団体へお願いします \n\n\n\n \n\n\n\n \n\n\n\n        この投稿をInstagramで見る            OSORAmarket☀︎(@osoramarket)がシェアした投稿
URL:https://kensetsu.kids/event/2025-10-25%e3%80%80%e3%82%b7%e3%83%ab%e3%83%90%e3%83%bc%e3%83%95%e3%82%a7%e3%82%a2with-osoramarket-%e3%81%af%e3%81%9f%e3%82%89%e3%81%8f%e3%81%8f%e3%82%8b%e3%81%be%e5%a4%a7%e9%9b%86%e5%90%88-vol-2
CATEGORIES:イベント
ATTACH;FMTTYPE=image/png:https://kensetsu.kids/wp-content/uploads/2024/07/kansaichihou.png
END:VEVENT
BEGIN:VEVENT
DTSTART;TZID=Asia/Tokyo:20251026T000000
DTEND;TZID=Asia/Tokyo:20251026T235959
DTSTAMP:20260425T082826
CREATED:20251014T045844Z
LAST-MODIFIED:20251014T045927Z
UID:4443-1761436800-1761523199@kensetsu.kids
SUMMARY:2025/10/26　建ちゃんまつり 京都まちづくりフェスタ＜京都府京都市＞
DESCRIPTION:情報提供いただきました！ありがとうございます  京都で毎年開催されている体験型建設イベントです♪ \n\n\n\n \n\n\n\nタイルコースターづくり・ミニ椅子つくり、エアー遊具・乗り物乗車体験・消防車やユンボと写真撮影・パネル展示等・高所作業車乗車体験・ガラガラ抽選・飲食コーナー増大他にも体験やコーナーなどがたくさん！※例えば…石山テクノ建設さんは模型を使って耐震実験ができるコンテンツや、耐震補強に使用する最先端の素材を触って体験できるコンテンツ　で出展♪ \n\n\n\n \n\n\n\n対象特になし日程2025/10/26(日)時間10:00～16:00開催地梅小路公園七条入口広場開催地住所京都府京都市下京区観喜寺町５６-３主催全京都建設業同組合周年実行委員会\n\n\n\n\n\n\n\n\n\n※イベントにより募集が終了している場合があります \n\n\n\n※お問い合わせは主催団体へお願いします \n\n\n\n \n\n\n\n\nhttps://ameblo.jp/zenkyoto/entry-12925396133.html?frm=theme
URL:https://kensetsu.kids/event/2025-10-26%e3%80%80%e5%bb%ba%e3%81%a1%e3%82%83%e3%82%93%e3%81%be%e3%81%a4%e3%82%8a-%e4%ba%ac%e9%83%bd%e3%81%be%e3%81%a1%e3%81%a5%e3%81%8f%e3%82%8a%e3%83%95%e3%82%a7%e3%82%b9%e3%82%bf%ef%bc%9c%e4%ba%ac
CATEGORIES:イベント
ATTACH;FMTTYPE=image/png:https://kensetsu.kids/wp-content/uploads/2024/07/kansaichihou.png
END:VEVENT
BEGIN:VEVENT
DTSTART;TZID=Asia/Tokyo:20251026T000000
DTEND;TZID=Asia/Tokyo:20251026T235959
DTSTAMP:20260425T082826
CREATED:20251020T011748Z
LAST-MODIFIED:20251020T011749Z
UID:4471-1761436800-1761523199@kensetsu.kids
SUMMARY:2025/10/26　第49回 村岡ふる里祭り＜兵庫県美方郡＞
DESCRIPTION:村岡商店街を歩行者天国として、キッチンカー、屋台、44店舗が大集合！！スペシャルゲストとしてK-POPアーティストbuzz Kが今年も盛り上げてくれます！MCは小代出身のDJ nami！ももいろクロおばあZのパフォーマンス、ダンスに南中ソーラン、ご当地ソングにバンド演奏、そしてジャズ演奏も♪但馬牛太郎も登場！もう盛りだくさん！働くクルマ体験乗車もあり。自衛隊車両もやってきます。みんなで盛り上がりましょう！ \n\n\n\n \n\n\n\n対象特になし日程2025/10/26(日)時間09:30～15:00開催地村岡商店街開催地住所〒667-1311　兵庫県美方郡香美町村岡区村岡主催香美町商工会村岡支部\n\n\n\n\n\n\n\n\n\n※イベントにより募集が終了している場合があります \n\n\n\n※お問い合わせは主催団体へお願いします \n\n\n\n \n\n\n\n\nhttps://www.kami-tourism.com/festival/detail_10418.html\n\n\n\n\n \n\n\n\n        この投稿をInstagramで見る            香美町村岡観光協会(@muraokakanko)がシェアした投稿
URL:https://kensetsu.kids/event/2025-10-26%e3%80%80%e7%ac%ac49%e5%9b%9e-%e6%9d%91%e5%b2%a1%e3%81%b5%e3%82%8b%e9%87%8c%e7%a5%ad%e3%82%8a%ef%bc%9c%e5%85%b5%e5%ba%ab%e7%9c%8c%e7%be%8e%e6%96%b9%e9%83%a1%ef%bc%9e
CATEGORIES:イベント
ATTACH;FMTTYPE=image/png:https://kensetsu.kids/wp-content/uploads/2024/07/kansaichihou.png
END:VEVENT
END:VCALENDAR