BEGIN:VCALENDAR
VERSION:2.0
PRODID:-//建設kids - ECPv6.15.20//NONSGML v1.0//EN
CALSCALE:GREGORIAN
METHOD:PUBLISH
X-WR-CALNAME:建設kids
X-ORIGINAL-URL:https://kensetsu.kids
X-WR-CALDESC:建設kids のイベント
REFRESH-INTERVAL;VALUE=DURATION:PT1H
X-Robots-Tag:noindex
X-PUBLISHED-TTL:PT1H
BEGIN:VTIMEZONE
TZID:Asia/Tokyo
BEGIN:STANDARD
TZOFFSETFROM:+0900
TZOFFSETTO:+0900
TZNAME:JST
DTSTART:20240101T000000
END:STANDARD
END:VTIMEZONE
BEGIN:VEVENT
DTSTART;TZID=Asia/Tokyo:20250415T000000
DTEND;TZID=Asia/Tokyo:20250910T235959
DTSTAMP:20260425T095956
CREATED:20250709T053740Z
LAST-MODIFIED:20250709T053741Z
UID:3943-1744675200-1757548799@kensetsu.kids
SUMMARY:～2025/09/10　第13回『夢けんプラザ絵画コンクール』＜滋賀県＞
DESCRIPTION:滋賀県建設業協会は、次世代を担う子供達に建設産業の魅力発信事業として、安全・安心で快適な生活を送るためのインフラの整備や街の豊かな環境の整備などの多くの事業を建設業が担っていることや、その役割の大切さ、頼もしさを見聞きしていただき、子供達の豊かな感性、観察力や創造力を育み、街づくりやその事業に関心を向けていただくため、県内の小中学生を対象とした絵画コンクールを行います。この事業を通して建設業への興味や関心度を上げることにより３Ｋといわれるイメージの払拭と向上、将来の雇用促進に繋げていくことを目的としています。 \n\n\n\n \n\n\n\n対象滋賀県内在住・在学の小中学生締切2025/09/10(水)必着応募方法郵送表彰式なし主催（一社）滋賀県建設業協会　\n\n\n\n\n\n\n\n※イベントにより募集が終了している場合があります \n\n\n\n※お問い合わせは主催団体へお願いします \n\n\n\n \n\n\n\n\nhttps://yumeken.or.jp/kaiga-concool/
URL:https://kensetsu.kids/event/%ef%bd%9e2025-09-10%e3%80%80%e7%ac%ac13%e5%9b%9e%e3%80%8e%e5%a4%a2%e3%81%91%e3%82%93%e3%83%97%e3%83%a9%e3%82%b6%e7%b5%b5%e7%94%bb%e3%82%b3%e3%83%b3%e3%82%af%e3%83%bc%e3%83%ab%e3%80%8f%ef%bc%9c
CATEGORIES:コンクール・コンテスト
ATTACH;FMTTYPE=image/png:https://kensetsu.kids/wp-content/uploads/2024/07/kansaichihou.png
END:VEVENT
BEGIN:VEVENT
DTSTART;TZID=Asia/Tokyo:20250907T000000
DTEND;TZID=Asia/Tokyo:20250907T235959
DTSTAMP:20260425T095956
CREATED:20250825T044737Z
LAST-MODIFIED:20250825T044739Z
UID:4231-1757203200-1757289599@kensetsu.kids
SUMMARY:2025/09/07　ワクワク・ドキドキけんせつ体験2025＜秋田県北秋田市＞
DESCRIPTION:「大館能代空港スカイフェスタ2025」に合わせ「ワクワク・ドキドキけんせつ体験」を開催します。子どもたちに大人気のパワーショベルや珍しい空港用除雪機械など、建設機械を間近で見て、触って、乗って体験できます。どなたでも参加OK！予約不要、参加無料ですのでみなさまのお越しをお待ちしております。 \n\n\n\n \n\n\n\n対象どなたでもOK！日程2025/09/07(日)時間10:00～15:00開催地大館能代空港開催地住所〒018-3454 秋田県北秋田市脇神苔岱２１−１４４主催北秋田建設業協会・若葉会・わかば/北秋田地域振興局\n\n\n\n\n\n\n\n\n\n※イベントにより募集が終了している場合があります \n\n\n\n※お問い合わせは主催団体へお願いします \n\n\n\n \n\n\n\n\nhttps://www.city.kitaakita.akita.jp/news/p20250820130342\n\n\n\n\n\n\n\n\n \n\n\n\n        この投稿をInstagramで見る            【公式】未来へ伝えたい『秋田のインフラ５０選』(@akita_infra50)がシェアした投稿
URL:https://kensetsu.kids/event/2025-09-07%e3%80%80%e3%83%af%e3%82%af%e3%83%af%e3%82%af%e3%83%bb%e3%83%89%e3%82%ad%e3%83%89%e3%82%ad%e3%81%91%e3%82%93%e3%81%9b%e3%81%a4%e4%bd%93%e9%a8%932025%ef%bc%9c%e7%a7%8b%e7%94%b0%e7%9c%8c
CATEGORIES:イベント
ATTACH;FMTTYPE=image/png:https://kensetsu.kids/wp-content/uploads/2024/07/touhokuchihou.png
END:VEVENT
BEGIN:VEVENT
DTSTART;TZID=Asia/Tokyo:20250913T000000
DTEND;TZID=Asia/Tokyo:20250913T235959
DTSTAMP:20260425T095956
CREATED:20250825T044133Z
LAST-MODIFIED:20250825T044134Z
UID:4229-1757721600-1757807999@kensetsu.kids
SUMMARY:2025/09/13　～さわって 作って 動かして 建設業体験イベント2025～＜京都府京都市＞
DESCRIPTION:【ブース内容】・VRで重機等操作体験・ブロックで街づくり・ダヴィンチ橋の製作体験　等皆様ぜひお越しください！ \n\n\n\n \n\n\n\n対象特になし日程2025/09/13(土)時間10:00～17:00開催地イオンモール京都五条1階吹抜け開催地住所〒615-0035 京都府京都市右京区西院追分町２５主催京都府建設業魅力向上プロジェクト推進プラットフォーム・一般社団法人京都府建設業協会・一般社団法人京都府測量設計業協会・京都府建設交通部など\n\n\n\n\n\n\n\n\n\n※イベントにより募集が終了している場合があります \n\n\n\n※お問い合わせは主催団体へお願いします \n\n\n\n \n\n\n\n\nhttps://www.pref.kyoto.jp/shido/miryokukojo/index.html\n\n\n\n\n \n\n\n\n\n～さわって　作って　動かして　建設業体験イベント2025～建設業に触れるイベントを今年も開催します！日時：9月13日（土）10:00～17:00場所：イオンモール京都五条　１階吹抜け【ブース内容】・VRで重機等操作体験・ブロックで街づくり・ダヴィンチ橋の製作体験　等皆様ぜひお越しください！ pic.twitter.com/2kl4xWgEZ9 — 京都府指導検査課 (@miryokukojo) August 21\, 2025\n\n\n\n\n \n\n\n\n        この投稿をInstagramで見る            京都府指導検査課(@miryokukojo)がシェアした投稿
URL:https://kensetsu.kids/event/2025-09-13%e3%80%80%ef%bd%9e%e3%81%95%e3%82%8f%e3%81%a3%e3%81%a6-%e4%bd%9c%e3%81%a3%e3%81%a6-%e5%8b%95%e3%81%8b%e3%81%97%e3%81%a6-%e5%bb%ba%e8%a8%ad%e6%a5%ad%e4%bd%93%e9%a8%93%e3%82%a4%e3%83%99
CATEGORIES:イベント
ATTACH;FMTTYPE=image/png:https://kensetsu.kids/wp-content/uploads/2024/07/kansaichihou.png
END:VEVENT
BEGIN:VEVENT
DTSTART;TZID=Asia/Tokyo:20250920T000000
DTEND;TZID=Asia/Tokyo:20250920T235959
DTSTAMP:20260425T095956
CREATED:20250828T055229Z
LAST-MODIFIED:20250828T055230Z
UID:4274-1758326400-1758412799@kensetsu.kids
SUMMARY:2025/09/20　滋賀けんせつみらいフェスタ2025＜滋賀県野洲市＞
DESCRIPTION:「けんせつ」をみて！ふれて！学べる！ \n\n\n\n \n\n\n\n対象特になし日程2025/09/20(土)時間10:00~15:00開催地滋賀県希望ヶ丘文化公園　スポーツゾーン開催地住所滋賀県野洲市北桜978主催滋賀県建設産業魅力アップ実行委員会(滋賀県・滋賀県建設産業団体連合会他)\n\n\n\n\n\n\n\n\n\n※イベントにより募集が終了している場合があります \n\n\n\n※お問い合わせは主催団体へお願いします \n\n\n\n \n\n\n\n\nhttps://yumeken.or.jp/mirai-festa/
URL:https://kensetsu.kids/event/2025-09-20%e3%80%80%e6%bb%8b%e8%b3%80%e3%81%91%e3%82%93%e3%81%9b%e3%81%a4%e3%81%bf%e3%82%89%e3%81%84%e3%83%95%e3%82%a7%e3%82%b9%e3%82%bf2025%ef%bc%9c%e6%bb%8b%e8%b3%80%e7%9c%8c%e9%87%8e%e6%b4%b2
CATEGORIES:イベント
ATTACH;FMTTYPE=image/png:https://kensetsu.kids/wp-content/uploads/2024/07/kansaichihou.png
END:VEVENT
END:VCALENDAR