BEGIN:VCALENDAR
VERSION:2.0
PRODID:-//建設kids - ECPv6.15.20//NONSGML v1.0//EN
CALSCALE:GREGORIAN
METHOD:PUBLISH
X-WR-CALNAME:建設kids
X-ORIGINAL-URL:https://kensetsu.kids
X-WR-CALDESC:建設kids のイベント
REFRESH-INTERVAL;VALUE=DURATION:PT1H
X-Robots-Tag:noindex
X-PUBLISHED-TTL:PT1H
BEGIN:VTIMEZONE
TZID:Asia/Tokyo
BEGIN:STANDARD
TZOFFSETFROM:+0900
TZOFFSETTO:+0900
TZNAME:JST
DTSTART:20240101T000000
END:STANDARD
END:VTIMEZONE
BEGIN:VEVENT
DTSTART;TZID=Asia/Tokyo:20250415T000000
DTEND;TZID=Asia/Tokyo:20250910T235959
DTSTAMP:20260425T113250
CREATED:20250709T053740Z
LAST-MODIFIED:20250709T053741Z
UID:3943-1744675200-1757548799@kensetsu.kids
SUMMARY:～2025/09/10　第13回『夢けんプラザ絵画コンクール』＜滋賀県＞
DESCRIPTION:滋賀県建設業協会は、次世代を担う子供達に建設産業の魅力発信事業として、安全・安心で快適な生活を送るためのインフラの整備や街の豊かな環境の整備などの多くの事業を建設業が担っていることや、その役割の大切さ、頼もしさを見聞きしていただき、子供達の豊かな感性、観察力や創造力を育み、街づくりやその事業に関心を向けていただくため、県内の小中学生を対象とした絵画コンクールを行います。この事業を通して建設業への興味や関心度を上げることにより３Ｋといわれるイメージの払拭と向上、将来の雇用促進に繋げていくことを目的としています。 \n\n\n\n \n\n\n\n対象滋賀県内在住・在学の小中学生締切2025/09/10(水)必着応募方法郵送表彰式なし主催（一社）滋賀県建設業協会　\n\n\n\n\n\n\n\n※イベントにより募集が終了している場合があります \n\n\n\n※お問い合わせは主催団体へお願いします \n\n\n\n \n\n\n\n\nhttps://yumeken.or.jp/kaiga-concool/
URL:https://kensetsu.kids/event/%ef%bd%9e2025-09-10%e3%80%80%e7%ac%ac13%e5%9b%9e%e3%80%8e%e5%a4%a2%e3%81%91%e3%82%93%e3%83%97%e3%83%a9%e3%82%b6%e7%b5%b5%e7%94%bb%e3%82%b3%e3%83%b3%e3%82%af%e3%83%bc%e3%83%ab%e3%80%8f%ef%bc%9c
CATEGORIES:コンクール・コンテスト
ATTACH;FMTTYPE=image/png:https://kensetsu.kids/wp-content/uploads/2024/07/kansaichihou.png
END:VEVENT
BEGIN:VEVENT
DTSTART;TZID=Asia/Tokyo:20250729T000000
DTEND;TZID=Asia/Tokyo:20250803T235959
DTSTAMP:20260425T113250
CREATED:20250729T003239Z
LAST-MODIFIED:20250729T003240Z
UID:4140-1753747200-1754265599@kensetsu.kids
SUMMARY:2025/07/23～08/03　未来を創る！建設のチカラ展＜兵庫県神戸市＞
DESCRIPTION:【夏休みに体験！建設の技術を楽しく学ぼう】兵庫県では、建設業の未来を支える若い世代の育成に取り組んでいます。その一環として、建設の技術に触れながら、街づくりや防災について楽しく学べるイベントを開催します！4つの体験型展示で、建設の最先端技術や街を守るしくみを体験しよう！ \n\n\n\n \n\n\n\n対象特になし日程2025/07/23(水)～08/03(日)時間09:30～17:30開催地人と防災未来センター西館1階ロビー開催地住所兵庫県神戸市中央区脇浜海岸通1丁目主催兵庫県\n\n\n\n\n\n\n\n\n\n※イベントにより募集が終了している場合があります \n\n\n\n※お問い合わせは主催団体へお願いします \n\n\n\n \n\n\n\n\nhttps://web.pref.hyogo.lg.jp/ks04/press/20250704.html\n\n\n\n\n \n\n\n\n        この投稿をInstagramで見る            【公式】兵庫県土木部(@hyogo_doboku)がシェアした投稿
URL:https://kensetsu.kids/event/2025-07-23%ef%bd%9e08-03%e3%80%80%e6%9c%aa%e6%9d%a5%e3%82%92%e5%89%b5%e3%82%8b%ef%bc%81%e5%bb%ba%e8%a8%ad%e3%81%ae%e3%83%81%e3%82%ab%e3%83%a9%e5%b1%95%ef%bc%9c%e5%85%b5%e5%ba%ab%e7%9c%8c%e7%a5%9e-2
CATEGORIES:イベント
ATTACH;FMTTYPE=image/png:https://kensetsu.kids/wp-content/uploads/2024/07/kansaichihou.png
END:VEVENT
BEGIN:VEVENT
DTSTART;TZID=Asia/Tokyo:20250730T000000
DTEND;TZID=Asia/Tokyo:20250804T235959
DTSTAMP:20260425T113250
CREATED:20250626T041803Z
LAST-MODIFIED:20250626T041804Z
UID:3633-1753833600-1754351999@kensetsu.kids
SUMMARY:2025/07/26～08/31　特別展「はたらくドローン」＜兵庫県姫路市＞
DESCRIPTION:姫路市や日本国内で活躍するドローンが勢ぞろいします！実機の操縦も体験できます。 \n\n\n\n \n\n\n\n対象特になし日程2025/07/26(土)時間09:00～17:00開催地姫路科学館1階特別展示室開催地住所兵庫県姫路市青山1470-15主催姫路科学館\n\n\n\n\n\n\n\n\n\n※イベントにより募集が終了している場合があります \n\n\n\n※お問い合わせは主催団体へお願いします \n\n\n\n \n\n\n\n\nhttps://www.city.himeji.lg.jp/atom/tokuten/archive/25drone/index.html
URL:https://kensetsu.kids/event/2025-07-26%ef%bd%9e08-31%e3%80%80%e7%89%b9%e5%88%a5%e5%b1%95%e3%80%8c%e3%81%af%e3%81%9f%e3%82%89%e3%81%8f%e3%83%89%e3%83%ad%e3%83%bc%e3%83%b3%e3%80%8d%ef%bc%9c%e5%85%b5%e5%ba%ab%e7%9c%8c%e5%a7%ab-2
CATEGORIES:イベント
ATTACH;FMTTYPE=image/png:https://kensetsu.kids/wp-content/uploads/2024/07/kansaichihou.png
END:VEVENT
BEGIN:VEVENT
DTSTART;TZID=Asia/Tokyo:20250802T000000
DTEND;TZID=Asia/Tokyo:20250802T235959
DTSTAMP:20260425T113250
CREATED:20250709T051701Z
LAST-MODIFIED:20250709T051702Z
UID:3937-1754092800-1754179199@kensetsu.kids
SUMMARY:2025/08/02　つくってわくわくこども工務店2025＜京都府京都市＞
DESCRIPTION:二条城近くの株式会社中藏にて、夏休みイベント「こども工務店」を開催いたします！大工さん・左官屋さんとつくろう！あそぼう！みんなでみらいのまちづくり夏を体感！おいしいたべもの \n\n\n\n \n\n\n\n対象特になし日程2025/08/02(土)時間09:00～15:00開催地株式会社中藏 御池事務所開催地住所京都府京都市中京区西ノ京職司町67-19主催株式会社中藏\n\n\n\n\n\n\n\n\n\n※イベントにより募集が終了している場合があります \n\n\n\n※お問い合わせは主催団体へお願いします \n\n\n\n \n\n\n\n\n\n \n\n\n\n        この投稿をInstagramで見る            こども工務店(@nijyomatsuri)がシェアした投稿
URL:https://kensetsu.kids/event/2025-08-02%e3%80%80%e3%81%a4%e3%81%8f%e3%81%a3%e3%81%a6%e3%82%8f%e3%81%8f%e3%82%8f%e3%81%8f%e3%81%93%e3%81%a9%e3%82%82%e5%b7%a5%e5%8b%99%e5%ba%972025%ef%bc%9c%e4%ba%ac%e9%83%bd%e5%ba%9c%e4%ba%ac
CATEGORIES:イベント
ATTACH;FMTTYPE=image/png:https://kensetsu.kids/wp-content/uploads/2024/07/kansaichihou.png
END:VEVENT
BEGIN:VEVENT
DTSTART;TZID=Asia/Tokyo:20250803T000000
DTEND;TZID=Asia/Tokyo:20250803T235959
DTSTAMP:20260425T113250
CREATED:20250728T054029Z
LAST-MODIFIED:20250728T054031Z
UID:4105-1754179200-1754265599@kensetsu.kids
SUMMARY:2025/08/03　夏休み自由研究応援企画『上下水道まなび隊』＜大阪府堺市＞
DESCRIPTION:夏休みの宿題・自由研究に役立つ実験コーナーや体験コーナーなどを設け、楽しみながら上下水道への理解や知識を深めることができるイベントです。 \n\n\n\n \n\n\n\n対象主に小学生向けですが、どなたでも参加いただけます。(小学生以下の方は、保護者の方とご参加ください。)日程2025/08/03(日)時間10:00～15:00開催地堺市上下水道局本庁舎開催地住所大阪府堺市北区百舌鳥梅北町1-39-2主催堺市上下水道局\n\n\n\n\n\n\n\n\n\n※イベントにより募集が終了している場合があります \n\n\n\n※お問い合わせは主催団体へお願いします \n\n\n\n \n\n\n\n\nhttps://water.city.sakai.lg.jp/about/kouhou/event/4204.html?utm_source=CityHP&utm_medium=Link&utm_campaign=eventpage&utm_id=0708set\n\n\n\n\n \n\n\n\n\nhttps://www.city.sakai.lg.jp/kurashi/suido/event/75821720220720162302844.html\n\n\n\n\n \n\n\n\n\n／夏休み自由研究応援企画！『上下水道まなび隊』はいかがですか⛱☼＼8月3日（日）午前10時～午後3時上下水道局　本庁舎で開催するで～✨実験や水遊びなど、楽しいコーナーが盛りだくさん！詳細はチラシや、下記リンクからチェックしてや～！https://t.co/XFpB2JfOKU pic.twitter.com/bV3dLyo6Qo — 堺市上下水道局「すいちゃん」【公式】 (@sakai_suichan) July 25\, 2025
URL:https://kensetsu.kids/event/2025-08-03%e3%80%80%e5%a4%8f%e4%bc%91%e3%81%bf%e8%87%aa%e7%94%b1%e7%a0%94%e7%a9%b6%e5%bf%9c%e6%8f%b4%e4%bc%81%e7%94%bb%e3%80%8e%e4%b8%8a%e4%b8%8b%e6%b0%b4%e9%81%93%e3%81%be%e3%81%aa%e3%81%b3%e9%9a%8a
CATEGORIES:イベント
ATTACH;FMTTYPE=image/png:https://kensetsu.kids/wp-content/uploads/2024/07/kansaichihou.png
END:VEVENT
BEGIN:VEVENT
DTSTART;TZID=Asia/Tokyo:20250806T000000
DTEND;TZID=Asia/Tokyo:20250806T235959
DTSTAMP:20260425T113250
CREATED:20250624T025606Z
LAST-MODIFIED:20250624T025607Z
UID:3574-1754438400-1754524799@kensetsu.kids
SUMMARY:2025/07/30・08/06　令和7年度 夏休み特別講座 下水道サイエンスラボ＜大阪府吹田市＞
DESCRIPTION:下水道と下水処理について汚れた水はどこへ行ってどうなるのかな？下水道と下水処理について学びます。いろいろな紙の溶解実験トイレにはなぜトイレットペーパーなのか。ペットボトルを使ってトイレットペーパーとそれ以外の紙の水への溶け具合を比べて、トイレの詰まりを再現します。微生物観察汚れた水をきれいにする微生物を顕微鏡で観察し、自分だけの微生物図鑑を作ります。※お子さまは、筆記用具をお持ちください。参加者には、下水道部オリジナルトイレットペーパーをプレゼント！さらに、ご希望の方には水再生センターで発生した「下水汚泥」から作られた有機質肥料（2kg/袋）をプレゼントします（いずれも1人1個）。 \n\n\n\n \n\n\n\n対象吹田市在住・在学の小学4～6年生と保護者日程2025/07/30(水)・08/06(水)時間10:00～12:00　14:00～16:00開催地南吹田水再生センター開催地住所大阪府南吹田5丁目35-1主催吹田市下水道部水再生室　企画・施設担当\n\n\n\n\n\n\n\n\n\n※イベントにより募集が終了している場合があります \n\n\n\n※お問い合わせは主催団体へお願いします \n\n\n\n \n\n\n\n\nhttps://www.city.suita.osaka.jp/kurashi/1018541/1018543/1038004.html
URL:https://kensetsu.kids/event/2025-07-30%e3%83%bb08-06%e3%80%80%e4%bb%a4%e5%92%8c7%e5%b9%b4%e5%ba%a6-%e5%a4%8f%e4%bc%91%e3%81%bf%e7%89%b9%e5%88%a5%e8%ac%9b%e5%ba%a7-%e4%b8%8b%e6%b0%b4%e9%81%93%e3%82%b5%e3%82%a4%e3%82%a8%e3%83%b3-2
CATEGORIES:イベント
ATTACH;FMTTYPE=image/png:https://kensetsu.kids/wp-content/uploads/2024/07/kansaichihou.png
END:VEVENT
BEGIN:VEVENT
DTSTART;TZID=Asia/Tokyo:20250806T000000
DTEND;TZID=Asia/Tokyo:20250818T235959
DTSTAMP:20260425T113250
CREATED:20250626T041929Z
LAST-MODIFIED:20250626T041930Z
UID:3635-1754438400-1755561599@kensetsu.kids
SUMMARY:2025/07/26～08/31　特別展「はたらくドローン」＜兵庫県姫路市＞
DESCRIPTION:姫路市や日本国内で活躍するドローンが勢ぞろいします！実機の操縦も体験できます。 \n\n\n\n \n\n\n\n対象特になし日程2025/07/26(土)時間09:00～17:00開催地姫路科学館1階特別展示室開催地住所兵庫県姫路市青山1470-15主催姫路科学館\n\n\n\n\n\n\n\n\n\n※イベントにより募集が終了している場合があります \n\n\n\n※お問い合わせは主催団体へお願いします \n\n\n\n \n\n\n\n\nhttps://www.city.himeji.lg.jp/atom/tokuten/archive/25drone/index.html
URL:https://kensetsu.kids/event/2025-07-26%ef%bd%9e08-31%e3%80%80%e7%89%b9%e5%88%a5%e5%b1%95%e3%80%8c%e3%81%af%e3%81%9f%e3%82%89%e3%81%8f%e3%83%89%e3%83%ad%e3%83%bc%e3%83%b3%e3%80%8d%ef%bc%9c%e5%85%b5%e5%ba%ab%e7%9c%8c%e5%a7%ab-3
CATEGORIES:イベント
ATTACH;FMTTYPE=image/png:https://kensetsu.kids/wp-content/uploads/2024/07/kansaichihou.png
END:VEVENT
BEGIN:VEVENT
DTSTART;TZID=Asia/Tokyo:20250818T000000
DTEND;TZID=Asia/Tokyo:20250818T235959
DTSTAMP:20260425T113250
CREATED:20250728T054710Z
LAST-MODIFIED:20250728T054753Z
UID:4108-1755475200-1755561599@kensetsu.kids
SUMMARY:2025/08/18　親子で学ぼう！夏休み下水道施設見学会＜京都府京都市＞
DESCRIPTION:京都市上下水道局では、日頃から市民の皆様のくらしを支える水道・下水道をより知っていただくため、1年を通じてシリーズで「ライフライン広報」を実施しています。この度、ライフライン広報の一つとして、「下水道の日」にちなみ、夏休みに、下水処理過程の見学をはじめ、水質実験等を通じて子どもから大人まで、楽しく学んでいただける下水道施設見学会を開催します。 \n\n\n\n \n\n\n\n対象京都市内在住の小学生及びその保護者日程2025/08/18(月)時間13:00～16:30開催地鳥羽水環境保全センター開催地住所〒601-8161　京都府京都市南区上鳥羽塔ノ森梅ノ木1番地主催京都市上下水道局\n\n\n\n\n\n\n\n\n\n※イベントにより募集が終了している場合があります \n\n\n\n※お問い合わせは主催団体へお願いします \n\n\n\n \n\n\n\n\nhttps://www.city.kyoto.lg.jp/suido/page/0000343096.html
URL:https://kensetsu.kids/event/2025-08-18%e3%80%80%e8%a6%aa%e5%ad%90%e3%81%a7%e5%ad%a6%e3%81%bc%e3%81%86%ef%bc%81%e5%a4%8f%e4%bc%91%e3%81%bf%e4%b8%8b%e6%b0%b4%e9%81%93%e6%96%bd%e8%a8%ad%e8%a6%8b%e5%ad%a6%e4%bc%9a%ef%bc%9c%e4%ba%ac
CATEGORIES:イベント
ATTACH;FMTTYPE=image/png:https://kensetsu.kids/wp-content/uploads/2024/07/kansaichihou.png
END:VEVENT
BEGIN:VEVENT
DTSTART;TZID=Asia/Tokyo:20250820T000000
DTEND;TZID=Asia/Tokyo:20250825T235959
DTSTAMP:20260425T113250
CREATED:20250626T042053Z
LAST-MODIFIED:20250626T042054Z
UID:3637-1755648000-1756166399@kensetsu.kids
SUMMARY:2025/07/26～08/31　特別展「はたらくドローン」＜兵庫県姫路市＞
DESCRIPTION:姫路市や日本国内で活躍するドローンが勢ぞろいします！実機の操縦も体験できます。 \n\n\n\n \n\n\n\n対象特になし日程2025/07/26(土)時間09:00～17:00開催地姫路科学館1階特別展示室開催地住所兵庫県姫路市青山1470-15主催姫路科学館\n\n\n\n\n\n\n\n\n\n※イベントにより募集が終了している場合があります \n\n\n\n※お問い合わせは主催団体へお願いします \n\n\n\n \n\n\n\n\nhttps://www.city.himeji.lg.jp/atom/tokuten/archive/25drone/index.html
URL:https://kensetsu.kids/event/2025-07-26%ef%bd%9e08-31%e3%80%80%e7%89%b9%e5%88%a5%e5%b1%95%e3%80%8c%e3%81%af%e3%81%9f%e3%82%89%e3%81%8f%e3%83%89%e3%83%ad%e3%83%bc%e3%83%b3%e3%80%8d%ef%bc%9c%e5%85%b5%e5%ba%ab%e7%9c%8c%e5%a7%ab-4
CATEGORIES:イベント
ATTACH;FMTTYPE=image/png:https://kensetsu.kids/wp-content/uploads/2024/07/kansaichihou.png
END:VEVENT
BEGIN:VEVENT
DTSTART;TZID=Asia/Tokyo:20250827T000000
DTEND;TZID=Asia/Tokyo:20250831T235959
DTSTAMP:20260425T113250
CREATED:20250626T042157Z
LAST-MODIFIED:20250704T002258Z
UID:3639-1756252800-1756684799@kensetsu.kids
SUMMARY:2025/07/26～08/31　特別展「はたらくドローン」＜兵庫県姫路市＞
DESCRIPTION:姫路市や日本国内で活躍するドローンが勢ぞろいします！実機の操縦も体験できます。 \n\n\n\n \n\n\n\n対象特になし日程2025/07/26(土)時間09:00～17:00開催地姫路科学館1階特別展示室開催地住所兵庫県姫路市青山1470-15主催姫路科学館\n\n\n\n\n\n\n\n\n\n※イベントにより募集が終了している場合があります \n\n\n\n※お問い合わせは主催団体へお願いします \n\n\n\n \n\n\n\n\nhttps://www.city.himeji.lg.jp/atom/tokuten/archive/25drone/index.html
URL:https://kensetsu.kids/event/2025-07-26%ef%bd%9e08-31%e3%80%80%e7%89%b9%e5%88%a5%e5%b1%95%e3%80%8c%e3%81%af%e3%81%9f%e3%82%89%e3%81%8f%e3%83%89%e3%83%ad%e3%83%bc%e3%83%b3%e3%80%8d%ef%bc%9c%e5%85%b5%e5%ba%ab%e7%9c%8c%e5%a7%ab-5
CATEGORIES:イベント
ATTACH;FMTTYPE=image/png:https://kensetsu.kids/wp-content/uploads/2024/07/kansaichihou.png
END:VEVENT
END:VCALENDAR