BEGIN:VCALENDAR
VERSION:2.0
PRODID:-//建設kids - ECPv6.15.20//NONSGML v1.0//EN
CALSCALE:GREGORIAN
METHOD:PUBLISH
X-WR-CALNAME:建設kids
X-ORIGINAL-URL:https://kensetsu.kids
X-WR-CALDESC:建設kids のイベント
REFRESH-INTERVAL;VALUE=DURATION:PT1H
X-Robots-Tag:noindex
X-PUBLISHED-TTL:PT1H
BEGIN:VTIMEZONE
TZID:Asia/Tokyo
BEGIN:STANDARD
TZOFFSETFROM:+0900
TZOFFSETTO:+0900
TZNAME:JST
DTSTART:20250101T000000
END:STANDARD
END:VTIMEZONE
BEGIN:VEVENT
DTSTART;TZID=Asia/Tokyo:20260412T000000
DTEND;TZID=Asia/Tokyo:20260412T235959
DTSTAMP:20260425T003921
CREATED:20260407T051503Z
LAST-MODIFIED:20260407T051505Z
UID:4724-1775952000-1776038399@kensetsu.kids
SUMMARY:はたらくクルマ 2026　〜しえきのいま×しえきのにわ～＜和歌山県和歌山市＞
DESCRIPTION:市駅前の賑わいづくりイベント「はたらくクルマ 2026　〜しえきのいま×しえきのにわ～」を開催します。昨年に引き続き、和歌山市駅前広場（しえきのいま）に加えて、市駅前通り（市道和歌山市駅前線）歩道に設置している「市駅前ストリートガーデン『しえきのにわ』」及び丸山整形外科の駐車場を会場として開催します。「はたらくクルマ」を通じ、子どもたちが交通安全、防火・防災、公共交通等について楽しく学べます。🔳パトカーや消防車など、まちを守っている車や災害に役立つ車、バスや建設重機などの「はたらくクルマ」が大集合します。🔳車両乗車体験、警察官・白バイ隊員服、子ども防火服、自衛隊員などの制服体験、撮影ができます。🔳JAF「子ども安全免許証」や、くすの木 「はたらくクルマ手形スタンプ」を発行します。🔳会場をめぐってスタンプを集めて景品がもらえる「スタンプラリー」も開催！🔳警察音楽隊や消防音楽隊、伏虎義務教育学校吹奏楽部のコンサートも開催！🔳お子様ワクワクの「読み聞かせ会」や「縁日コーナー」や「ハンドメイドマーケット」「キッチンカー」も登場します。🔳マスコットキャラクター「きしゅう君」「和びっとちゃん」「ヤクルトマン」も登場！ \n\n\n\n \n\n\n\n対象内容による日程2026/04/12(日)時間10:00～16:00開催地しえきのいま会場～しえきのにわ会場　和歌山市駅前広場、市道和歌山市駅前線歩道、丸山整形外科駐車場開催地住所和歌山県和歌山市主催一般社団法人 市駅グリーングリーンプロジェクト\n\n\n\n\n\n\n\n\n\n※イベントにより募集が終了している場合があります \n\n\n\n※お問い合わせは主催団体へお願いします \n\n\n\n \n\n\n\n\nhttps://shiekiggp.com/news/4%e6%9c%8812%e6%97%a5%e6%97%a5-%e3%80%8c%e3%81%af%e3%81%9f%e3%82%89%e3%81%8f%e3%82%af%e3%83%ab%e3%83%9e2026-%e3%80%9c%e3%81%97%e3%81%88%e3%81%8d%e3%81%ae%e3%81%84%e3%81%bex%e3%81%97%e3%81%88\n\n\n\n\n \n\n\n\n        この投稿をInstagramで見る            しえきのいま(@shieki_no_ima)がシェアした投稿
URL:https://kensetsu.kids/event/%e3%81%af%e3%81%9f%e3%82%89%e3%81%8f%e3%82%af%e3%83%ab%e3%83%9e-2026%e3%80%80%e3%80%9c%e3%81%97%e3%81%88%e3%81%8d%e3%81%ae%e3%81%84%e3%81%bex%e3%81%97%e3%81%88%e3%81%8d%e3%81%ae%e3%81%ab%e3%82%8f
CATEGORIES:イベント
ATTACH;FMTTYPE=image/png:https://kensetsu.kids/wp-content/uploads/2024/07/kansaichihou.png
END:VEVENT
END:VCALENDAR