BEGIN:VCALENDAR
VERSION:2.0
PRODID:-//建設kids - ECPv6.15.20//NONSGML v1.0//EN
CALSCALE:GREGORIAN
METHOD:PUBLISH
X-ORIGINAL-URL:https://kensetsu.kids
X-WR-CALDESC:建設kids のイベント
REFRESH-INTERVAL;VALUE=DURATION:PT1H
X-Robots-Tag:noindex
X-PUBLISHED-TTL:PT1H
BEGIN:VTIMEZONE
TZID:Asia/Tokyo
BEGIN:STANDARD
TZOFFSETFROM:+0900
TZOFFSETTO:+0900
TZNAME:JST
DTSTART:20240101T000000
END:STANDARD
END:VTIMEZONE
BEGIN:VEVENT
DTSTART;TZID=Asia/Tokyo:20251108T000000
DTEND;TZID=Asia/Tokyo:20251108T235959
DTSTAMP:20260425T080705
CREATED:20251026T233128Z
LAST-MODIFIED:20251026T233352Z
UID:4478-1762560000-1762646399@kensetsu.kids
SUMMARY:2025/11/08　わくわくはたらく機械体験2025＜大阪府茨木市＞
DESCRIPTION:わくわくはたらく機械体験2025が下記のとおり開催されます。ぜひご参加ください。 \n\n\n\n \n\n\n\n対象特になし日程2025/11/08(土)時間10:00～15:00開催地西河原公園 北グラウンド開催地住所大阪府茨木市城の前町主催茨木市建設総合協同組合\n\n\n\n\n\n\n\n\n\n※イベントにより募集が終了している場合があります \n\n\n\n※お問い合わせは主催団体へお願いします \n\n\n\n \n\n\n\n\nhttps://www.city.ibaraki.osaka.jp/kikou/kensetsu/kensetsu/menu/67722.html\n\n\n\n\n \n\n\n\n\nhttps://www.police.pref.osaka.lg.jp/ochikakunokeisatsusho/keisatsushobetsujoho/30/2/koutuibaraki/22122.html\n\n\n\n\n \n\n\n\n        この投稿をInstagramで見る            ぱとしまくん(@patoshimakun)がシェアした投稿
URL:https://kensetsu.kids/event/2025-11-08%e3%80%80%e3%82%8f%e3%81%8f%e3%82%8f%e3%81%8f%e3%81%af%e3%81%9f%e3%82%89%e3%81%8f%e6%a9%9f%e6%a2%b0%e4%bd%93%e9%a8%932025%ef%bc%9c%e5%a4%a7%e9%98%aa%e5%ba%9c%e8%8c%a8%e6%9c%a8%e5%b8%82-2
CATEGORIES:イベント
ATTACH;FMTTYPE=image/png:https://kensetsu.kids/wp-content/uploads/2024/07/kansaichihou.png
END:VEVENT
BEGIN:VEVENT
DTSTART;TZID=Asia/Tokyo:20251108T000000
DTEND;TZID=Asia/Tokyo:20251108T235959
DTSTAMP:20260425T080705
CREATED:20251027T011347Z
LAST-MODIFIED:20251027T011348Z
UID:4508-1762560000-1762646399@kensetsu.kids
SUMMARY:2025/11/08　土木の日×はたらく船もあつまれ！＜静岡県下田市＞
DESCRIPTION:見どころ満載！今年の「土木の日」イベントはひと味違う土木の魅力を体感するイベントを、下田市内で開催します！重機やクレーン船、パトカーなどの乗車体験のほか、今年は海ではたらく船の展示や、海難救助訓練の実演、ブレーキサポート車の試乗体験、50t型消波ブロック（実物）の展示などもあります。ぜひ御参加ください。 \n\n\n\n \n\n\n\n対象特になし日程2025/11/08(土)時間10:00～15:00開催地道の駅「開国下田みなと」開催地住所〒415-0000 静岡県下田市外ケ岡１−１主催静岡県下田土木事務所\n\n\n\n\n\n\n\n\n\n※イベントにより募集が終了している場合があります \n\n\n\n※お問い合わせは主催団体へお願いします \n\n\n\n \n\n\n\n\nhttps://www.pref.shizuoka.jp/machizukuri/dobokujimusho/shimodadoboku/1066636/1066680.html
URL:https://kensetsu.kids/event/2025-11-08%e3%80%80%e5%9c%9f%e6%9c%a8%e3%81%ae%e6%97%a5x%e3%81%af%e3%81%9f%e3%82%89%e3%81%8f%e8%88%b9%e3%82%82%e3%81%82%e3%81%a4%e3%81%be%e3%82%8c%ef%bc%81%ef%bc%9c%e9%9d%99%e5%b2%a1%e7%9c%8c
CATEGORIES:イベント
ATTACH;FMTTYPE=image/png:https://kensetsu.kids/wp-content/uploads/2024/07/kansaichihou.png
END:VEVENT
END:VCALENDAR