BEGIN:VCALENDAR
VERSION:2.0
PRODID:-//建設kids - ECPv6.15.20//NONSGML v1.0//EN
CALSCALE:GREGORIAN
METHOD:PUBLISH
X-ORIGINAL-URL:https://kensetsu.kids
X-WR-CALDESC:建設kids のイベント
REFRESH-INTERVAL;VALUE=DURATION:PT1H
X-Robots-Tag:noindex
X-PUBLISHED-TTL:PT1H
BEGIN:VTIMEZONE
TZID:Asia/Tokyo
BEGIN:STANDARD
TZOFFSETFROM:+0900
TZOFFSETTO:+0900
TZNAME:JST
DTSTART:20250101T000000
END:STANDARD
END:VTIMEZONE
BEGIN:VEVENT
DTSTART;TZID=Asia/Tokyo:20260307T000000
DTEND;TZID=Asia/Tokyo:20260307T235959
DTSTAMP:20260425T212935
CREATED:20260226T060251Z
LAST-MODIFIED:20260226T060742Z
UID:4671-1772841600-1772927999@kensetsu.kids
SUMMARY:2026/03/07　新しい琵琶湖文化館 竣工1年前イベント「建設現場公開デー」＜滋賀県大津市＞
DESCRIPTION:今しか見られない！未来をつくる現場の見学。令和9年（2027年）12月の開館に向け、新しい琵琶湖文化館の建物が令和9年3月に竣工予定です。竣工1年前を記念して、建設現場の見学イベントを開催します。・建設現場見学・免震体験・浜大津アーカスエリア \n\n\n\n \n\n\n\n対象内容による日程2026/03/07(土)時間10：00～15：00開催地新しい琵琶湖文化館建設地および浜大津アーカス２階フェスティバルコート開催地住所滋賀県大津市浜大津５丁目１－１および滋賀県大津市浜町２−１主催滋賀県文化財保護課\n\n\n\n\n\n\n\n\n\n※イベントにより募集が終了している場合があります \n\n\n\n※お問い合わせは主催団体へお願いします \n\n\n\n \n\n\n\n\nhttps://biwakobunkakan2027.jp/event/3506/\n\n\n\n\n \n\n\n\n\nhttps://www.pref.shiga.lg.jp/kensei/koho/e-shinbun/event/348697.html\n\n\n\n\n \n\n\n\n\n＼開催決定！／新しい琵琶湖文化館竣工1年前イベント「建設現場公開デー」日時: 3月7日(土)10：00～15：00場所: 新文化館建設現場ほか👷普段は見られない！建設現場見学🫨文化財を守る！免震体験　など詳細はプレサイト▼https://t.co/AFI1bGCJpF — 滋賀県立琵琶湖文化館（公式） (@biwakobunkakan) February 19\, 2026
URL:https://kensetsu.kids/event/4670
CATEGORIES:イベント
ATTACH;FMTTYPE=image/png:https://kensetsu.kids/wp-content/uploads/2024/07/kansaichihou.png
END:VEVENT
BEGIN:VEVENT
DTSTART;TZID=Asia/Tokyo:20260403T000000
DTEND;TZID=Asia/Tokyo:20260403T235959
DTSTAMP:20260425T212936
CREATED:20260303T023544Z
LAST-MODIFIED:20260303T023546Z
UID:4692-1775174400-1775260799@kensetsu.kids
SUMMARY:2026/04/03　春休み親子現場見学会(淀川左岸線(2期)トンネル整備工事－1)＜大阪府大阪市＞
DESCRIPTION:情報提供いただきました！ありがとうございます 建設業協会が主催する、自動車専用道路の工事現場を見学できるイベントです！ \n\n\n\n \n\n\n\n\n\n\n\n小学校の春休み期間中に、ふだん見ることのできない大規模な建設現場を見学してみませんか？どのようにして、私たちのまわりの構造物は出来上がっていくのでしょうか。私たちの暮らしを支える“ものづくり”の第一線にご招待いたします！ご応募お待ちしております。申込（WEB）期限：令和８年（2026年）３月13日（金） \n\n\n\n \n\n\n\n対象大阪府近隣にお住まいの小学生およびその保護者日程2026/04/03(金)時間13:30～15:30開催地阪神高速11号池田線高架下開催地住所大阪府福島区海老江３丁目24　主催一般社団法人　大阪建設業協会\n\n\n\n\n\n\n\n\n\n※イベントにより募集が終了している場合があります \n\n\n\n※お問い合わせは主催団体へお願いします \n\n\n\n \n\n\n\n\nhttps://www.o-wave.or.jp/pro2/2026oyakogenbakengakukai/\n\n\n\n\n \n\n\n\n\n大阪建設業協会春休み親子現場見学会を開催日時：4月3日（金）13:30～15:30場所：大阪市福島区海老江3丁目24　阪神高速11号池田線高架下（現地集合）締切：3月13日（金）完成前の道路を歩いたり、迫力の建設重機を間近に見られる貴重な体験ができます#イベントhttps://t.co/yHxGmMeVlB pic.twitter.com/M2UedtTfSa — 全国建設業協会（全建） (@zenken_net) February 10\, 2026
URL:https://kensetsu.kids/event/4692
CATEGORIES:イベント
ATTACH;FMTTYPE=image/png:https://kensetsu.kids/wp-content/uploads/2024/07/kansaichihou.png
END:VEVENT
BEGIN:VEVENT
DTSTART;TZID=Asia/Tokyo:20260412T000000
DTEND;TZID=Asia/Tokyo:20260412T235959
DTSTAMP:20260425T212936
CREATED:20260407T051503Z
LAST-MODIFIED:20260407T051505Z
UID:4724-1775952000-1776038399@kensetsu.kids
SUMMARY:はたらくクルマ 2026　〜しえきのいま×しえきのにわ～＜和歌山県和歌山市＞
DESCRIPTION:市駅前の賑わいづくりイベント「はたらくクルマ 2026　〜しえきのいま×しえきのにわ～」を開催します。昨年に引き続き、和歌山市駅前広場（しえきのいま）に加えて、市駅前通り（市道和歌山市駅前線）歩道に設置している「市駅前ストリートガーデン『しえきのにわ』」及び丸山整形外科の駐車場を会場として開催します。「はたらくクルマ」を通じ、子どもたちが交通安全、防火・防災、公共交通等について楽しく学べます。🔳パトカーや消防車など、まちを守っている車や災害に役立つ車、バスや建設重機などの「はたらくクルマ」が大集合します。🔳車両乗車体験、警察官・白バイ隊員服、子ども防火服、自衛隊員などの制服体験、撮影ができます。🔳JAF「子ども安全免許証」や、くすの木 「はたらくクルマ手形スタンプ」を発行します。🔳会場をめぐってスタンプを集めて景品がもらえる「スタンプラリー」も開催！🔳警察音楽隊や消防音楽隊、伏虎義務教育学校吹奏楽部のコンサートも開催！🔳お子様ワクワクの「読み聞かせ会」や「縁日コーナー」や「ハンドメイドマーケット」「キッチンカー」も登場します。🔳マスコットキャラクター「きしゅう君」「和びっとちゃん」「ヤクルトマン」も登場！ \n\n\n\n \n\n\n\n対象内容による日程2026/04/12(日)時間10:00～16:00開催地しえきのいま会場～しえきのにわ会場　和歌山市駅前広場、市道和歌山市駅前線歩道、丸山整形外科駐車場開催地住所和歌山県和歌山市主催一般社団法人 市駅グリーングリーンプロジェクト\n\n\n\n\n\n\n\n\n\n※イベントにより募集が終了している場合があります \n\n\n\n※お問い合わせは主催団体へお願いします \n\n\n\n \n\n\n\n\nhttps://shiekiggp.com/news/4%e6%9c%8812%e6%97%a5%e6%97%a5-%e3%80%8c%e3%81%af%e3%81%9f%e3%82%89%e3%81%8f%e3%82%af%e3%83%ab%e3%83%9e2026-%e3%80%9c%e3%81%97%e3%81%88%e3%81%8d%e3%81%ae%e3%81%84%e3%81%bex%e3%81%97%e3%81%88\n\n\n\n\n \n\n\n\n        この投稿をInstagramで見る            しえきのいま(@shieki_no_ima)がシェアした投稿
URL:https://kensetsu.kids/event/%e3%81%af%e3%81%9f%e3%82%89%e3%81%8f%e3%82%af%e3%83%ab%e3%83%9e-2026%e3%80%80%e3%80%9c%e3%81%97%e3%81%88%e3%81%8d%e3%81%ae%e3%81%84%e3%81%bex%e3%81%97%e3%81%88%e3%81%8d%e3%81%ae%e3%81%ab%e3%82%8f
CATEGORIES:イベント
ATTACH;FMTTYPE=image/png:https://kensetsu.kids/wp-content/uploads/2024/07/kansaichihou.png
END:VEVENT
BEGIN:VEVENT
DTSTART;TZID=Asia/Tokyo:20260426T000000
DTEND;TZID=Asia/Tokyo:20260426T235959
DTSTAMP:20260425T212936
CREATED:20260406T232006Z
LAST-MODIFIED:20260406T232008Z
UID:4718-1777161600-1777247999@kensetsu.kids
SUMMARY:2026/04/26　はたらく車大集合！in福知山市長山町＜京都府福知山市＞
DESCRIPTION:★積水ハウスの分譲地にはたらく車がやってくる★人気の成仁学区に積水ハウスの分譲地が誕生！そこにはたらく車たちがやってくるショベルカー・ダンプカー・レッカー車と一緒に写真を撮って思い出に残そう！ \n\n\n\n \n\n\n\n対象特になし日程2026/04/26(日)時間①10：00～11：00　②11：00～12：00　③13：00～14：00　④14：00～15：00　⑤15：00～16：00　⑥16：00～17：00（6部制）開催地コモンステージ福知山市長山町Ⅲ開催地住所京都府福知山市長山町主催\n\n\n\n\n\n\n\n\n\n※イベントにより募集が終了している場合があります \n\n\n\n※お問い合わせは主催団体へお願いします \n\n\n\n \n\n\n\n\nhttps://www.sekisuihouse.co.jp/event/detail.php?id=b250008-2604-10014&p=
URL:https://kensetsu.kids/event/2026-04-26%e3%80%80%e3%81%af%e3%81%9f%e3%82%89%e3%81%8f%e8%bb%8a%e5%a4%a7%e9%9b%86%e5%90%88%ef%bc%81in%e7%a6%8f%e7%9f%a5%e5%b1%b1%e5%b8%82%e9%95%b7%e5%b1%b1%e7%94%ba%ef%bc%9c%e4%ba%ac%e9%83%bd
CATEGORIES:イベント
ATTACH;FMTTYPE=image/png:https://kensetsu.kids/wp-content/uploads/2024/07/kansaichihou.png
END:VEVENT
END:VCALENDAR